BEGIN:VCALENDAR
VERSION:2.0
PRODID:-//Beyt Tikkun - ECPv6.15.20//NONSGML v1.0//EN
CALSCALE:GREGORIAN
METHOD:PUBLISH
X-WR-CALNAME:Beyt Tikkun
X-ORIGINAL-URL:https://beyttikkun.org
X-WR-CALDESC:Events for Beyt Tikkun
REFRESH-INTERVAL;VALUE=DURATION:PT1H
X-Robots-Tag:noindex
X-PUBLISHED-TTL:PT1H
BEGIN:VTIMEZONE
TZID:America/Los_Angeles
BEGIN:DAYLIGHT
TZOFFSETFROM:-0800
TZOFFSETTO:-0700
TZNAME:PDT
DTSTART:20250309T100000
END:DAYLIGHT
BEGIN:STANDARD
TZOFFSETFROM:-0700
TZOFFSETTO:-0800
TZNAME:PST
DTSTART:20251102T090000
END:STANDARD
BEGIN:DAYLIGHT
TZOFFSETFROM:-0800
TZOFFSETTO:-0700
TZNAME:PDT
DTSTART:20260308T100000
END:DAYLIGHT
BEGIN:STANDARD
TZOFFSETFROM:-0700
TZOFFSETTO:-0800
TZNAME:PST
DTSTART:20261101T090000
END:STANDARD
BEGIN:DAYLIGHT
TZOFFSETFROM:-0800
TZOFFSETTO:-0700
TZNAME:PDT
DTSTART:20270314T100000
END:DAYLIGHT
BEGIN:STANDARD
TZOFFSETFROM:-0700
TZOFFSETTO:-0800
TZNAME:PST
DTSTART:20271107T090000
END:STANDARD
BEGIN:DAYLIGHT
TZOFFSETFROM:-0800
TZOFFSETTO:-0700
TZNAME:PDT
DTSTART:20280312T100000
END:DAYLIGHT
BEGIN:STANDARD
TZOFFSETFROM:-0700
TZOFFSETTO:-0800
TZNAME:PST
DTSTART:20281105T090000
END:STANDARD
END:VTIMEZONE
BEGIN:VEVENT
DTSTART;TZID=America/Los_Angeles:20260617T120000
DTEND;TZID=America/Los_Angeles:20260617T130000
DTSTAMP:20260423T023355
CREATED:20260308T013613Z
LAST-MODIFIED:20260420T222834Z
UID:3737-1781697600-1781701200@beyttikkun.org
SUMMARY:Collective Resilience: Mindfulness & Self-Compassion for Activists (ONLINE)
DESCRIPTION:Date:  Third Wednesdays of Every Month April - June\nApril 15 · May 20 · June 17\nWe will reassess and continue after our first three months together.\nTime: 12pm - 1pm PT (3–4pm ET)\nLocation: Online (Register to receive zoom link)\nQuestions: rabbi@beyttikkun.org\nTICKETS: Members & Students: $9 // Non-Members: Sliding Scale $18-36\nNo one turned away for lack of funds. Email lia@beyttikkun.org for a different ticket price.\n \nEvent Description:\nA monthly drop-in practice circle to sustain the long haul. In these intense and uncertain times\, many of us carry grief\, anger\, urgency\, and fatigue alongside our commitment to justice. The work is sacred — and it is demanding. \nCollective Resilience is a monthly space to pause together.\nTo breathe.\nTo soften what has hardened.\nTo remember that none of us carries this alone. \nRooted in Buddhist meditation\, Jewish spiritual wisdom\, and gentle embodied practice\, this online space offers grounded tools to help metabolize stress\, tend grief\, and restore energy for sustained engagement. This is not “wellness” as escape — it is practice in service of collective liberation. \nEach session may include: \n\nGuided meditation and breathwork to regulate the nervous system\nSelf-compassion practices to meet burnout and inner criticism with care\nGentle\, accessible movement (inspired by yoga and tai chi) to release tension - optional and can be done seated\nJewish spiritual grounding and reflection\nPractical tools to bring into organizing spaces\nTime for shared reflection and connection\n\nOpen to activists\, organizers\, and spiritually grounded justice-seekers of all backgrounds. Come once or come regularly — each session stands on its own. No prior meditation or mindfulness experience is required. \nSample Themes\n\nSelf-Compassion in Difficult Moments\nRest as Renewal\nWorking with Anger and Activation\nCultivating Sustainable Energy\nHonoring Our Shared Humanity\n\nAbout the Facilitator\, Mar Munn:\nMar Munn (they/them) serves as the Program and Outreach Manager at Beyt Tikkun and has been teaching mindfulness\, meditation\, and embodied practice since 2017. With over two decades of experience in educational and nonprofit settings\, Mar has worked with youth\, university students\, and adult communities navigating stress\, transition\, and collective struggle. \nTheir work weaves together Buddhist practice\, trauma-informed facilitation\, and social justice education. Mar is particularly devoted to supporting activists and big-hearted humans in cultivating resilience\, self-compassion\, and grounded presence — not as retreat from the world\, but as nourishment for sustained engagement.
URL:https://beyttikkun.org/event/collective-resilience-mindfulness-self-compassion-for-activists-online-3/
CATEGORIES:Activism,Special Event
END:VEVENT
BEGIN:VEVENT
DTSTART;TZID=America/Los_Angeles:20260621T140000
DTEND;TZID=America/Los_Angeles:20260621T153000
DTSTAMP:20260423T023355
CREATED:20260423T004822Z
LAST-MODIFIED:20260423T004822Z
UID:3987-1782050400-1782055800@beyttikkun.org
SUMMARY:Jewish Learning Cohort Gathering - June
DESCRIPTION:This Cohort Gathering is for participants of the Year-long Jewish Learning and Conversion Cohort\, beginning May 2026 through April 2027. \nQuestions: email rabbi@beyttikkun.orgLearn more about the Cohort programs here.  \nProgram participants receive a zoom link for the monthly gathering via email upon registration. \nThe Cohort meets monthly from 2pm-3:30pm PT on the following dates:May 17\, 2026June 21\, 2026July 19\, 2026August 16\, 2026September 27\, 2026October 18\, 2026November 15\, 2026December 13\, 2026 January 17\, 2027February 21\, 2027March 21\, 2027April 18\, 2027
URL:https://beyttikkun.org/event/jewish-learning-cohort-gathering-june/
CATEGORIES:Learning and Classes
ATTACH;FMTTYPE=image/jpeg:https://beyttikkun.org/wp-content/uploads/2026/04/friends-enjoying-lively-discussion-welldecorated-space-1-scaled.jpg
END:VEVENT
BEGIN:VEVENT
DTSTART;TZID=America/Los_Angeles:20260624T163000
DTEND;TZID=America/Los_Angeles:20260715T183000
DTSTAMP:20260423T023355
CREATED:20260404T031246Z
LAST-MODIFIED:20260420T222856Z
UID:3960-1782318600-1784140200@beyttikkun.org
SUMMARY:Davenning Class with Rabbi Cat: Prayer\, Practice\, & Meaning
DESCRIPTION:Date:  Four Wednesdays | June 24\, July 1\, 8\, 15Time: 4:30pm-6:30pm PT / 7:30pm-9:30pm ETLocation: Online (Register to receive zoom link)Questions: rabbi@beyttikkun.orgRegistration Fee: $360 Members // $500 Non-MembersNo One Turned Away for Lack of Funds. Email lia@beyttikkun.org for discounted registration \nEvent Description: \nIn this four-week (8 total hours) experiential course\, we will deepen our relationship to davening (prayer) by studying core prayers from the weekday and Shabbat morning services and exploring how prayer can become alive\, personal\, transformative\, and revolutionary. Drawing on the teachings of Jewish Renewal founder Rabbi Zalman Schachter-Shalomi and engaging multiple prayer translations\, participants will examine how language\, intention\, embodiment\, and spiritual practice shape our experience of prayer. Students will be supported in creating their own personalized morning siddur (prayer book) and cultivating a sustainable daily prayer practice that resonates with their spiritual lives. \nNo Hebrew skills needed. \nLearn more about Rabbi Cat here. \nThis class is also included in the year-long Jewish Learning and Conversion cohort beginning April 26th. Learn more about the cohort and sign up here.
URL:https://beyttikkun.org/event/davenning-class-with-rabbi-cat-prayer-practice-meaning/
CATEGORIES:Learning and Classes
ATTACH;FMTTYPE=image/png:https://beyttikkun.org/wp-content/uploads/2025/06/BeytTikkun_Stacked-Full-Logo-Color.png
END:VEVENT
BEGIN:VEVENT
DTSTART;TZID=America/Los_Angeles:20260719T140000
DTEND;TZID=America/Los_Angeles:20260719T153000
DTSTAMP:20260423T023355
CREATED:20260423T005046Z
LAST-MODIFIED:20260423T005046Z
UID:3988-1784469600-1784475000@beyttikkun.org
SUMMARY:Jewish Learning Cohort Gathering - July
DESCRIPTION:This Cohort Gathering is for participants of the Year-long Jewish Learning and Conversion Cohort\, beginning May 2026 through April 2027. \nQuestions: email rabbi@beyttikkun.orgLearn more about the Cohort programs here.  \nProgram participants receive a zoom link for the monthly gathering via email upon registration. \nThe Cohort meets monthly from 2pm-3:30pm PT on the following dates:May 17\, 2026June 21\, 2026July 19\, 2026August 16\, 2026September 27\, 2026October 18\, 2026November 15\, 2026December 13\, 2026 January 17\, 2027February 21\, 2027March 21\, 2027April 18\, 2027
URL:https://beyttikkun.org/event/jewish-learning-cohort-gathering-july/
CATEGORIES:Learning and Classes
ATTACH;FMTTYPE=image/jpeg:https://beyttikkun.org/wp-content/uploads/2026/04/friends-enjoying-lively-discussion-welldecorated-space-1-scaled.jpg
END:VEVENT
BEGIN:VEVENT
DTSTART;TZID=America/Los_Angeles:20260816T140000
DTEND;TZID=America/Los_Angeles:20260816T153000
DTSTAMP:20260423T023355
CREATED:20260423T005150Z
LAST-MODIFIED:20260423T005150Z
UID:3989-1786888800-1786894200@beyttikkun.org
SUMMARY:Jewish Learning Cohort Gathering - August
DESCRIPTION:This Cohort Gathering is for participants of the Year-long Jewish Learning and Conversion Cohort\, beginning May 2026 through April 2027. \nQuestions: email rabbi@beyttikkun.orgLearn more about the Cohort programs here.  \nProgram participants receive a zoom link for the monthly gathering via email upon registration. \nThe Cohort meets monthly from 2pm-3:30pm PT on the following dates:May 17\, 2026June 21\, 2026July 19\, 2026August 16\, 2026September 27\, 2026October 18\, 2026November 15\, 2026December 13\, 2026 January 17\, 2027February 21\, 2027March 21\, 2027April 18\, 2027
URL:https://beyttikkun.org/event/jewish-learning-cohort-gathering-august/
CATEGORIES:Learning and Classes
ATTACH;FMTTYPE=image/jpeg:https://beyttikkun.org/wp-content/uploads/2026/04/friends-enjoying-lively-discussion-welldecorated-space-1-scaled.jpg
END:VEVENT
BEGIN:VEVENT
DTSTART;TZID=America/Los_Angeles:20260927T140000
DTEND;TZID=America/Los_Angeles:20260927T153000
DTSTAMP:20260423T023355
CREATED:20260423T005253Z
LAST-MODIFIED:20260423T005253Z
UID:3990-1790517600-1790523000@beyttikkun.org
SUMMARY:Jewish Learning Cohort Gathering - September
DESCRIPTION:This Cohort Gathering is for participants of the Year-long Jewish Learning and Conversion Cohort\, beginning May 2026 through April 2027. \nQuestions: email rabbi@beyttikkun.orgLearn more about the Cohort programs here.  \nProgram participants receive a zoom link for the monthly gathering via email upon registration. \nThe Cohort meets monthly from 2pm-3:30pm PT on the following dates:May 17\, 2026June 21\, 2026July 19\, 2026August 16\, 2026September 27\, 2026October 18\, 2026November 15\, 2026December 13\, 2026 January 17\, 2027February 21\, 2027March 21\, 2027April 18\, 2027
URL:https://beyttikkun.org/event/jewish-learning-cohort-gathering-september/
CATEGORIES:Learning and Classes
ATTACH;FMTTYPE=image/jpeg:https://beyttikkun.org/wp-content/uploads/2026/04/friends-enjoying-lively-discussion-welldecorated-space-1-scaled.jpg
END:VEVENT
BEGIN:VEVENT
DTSTART;TZID=America/Los_Angeles:20261018T140000
DTEND;TZID=America/Los_Angeles:20261018T153000
DTSTAMP:20260423T023355
CREATED:20260423T005355Z
LAST-MODIFIED:20260423T005355Z
UID:3991-1792332000-1792337400@beyttikkun.org
SUMMARY:Jewish Learning Cohort Gathering - October
DESCRIPTION:This Cohort Gathering is for participants of the Year-long Jewish Learning and Conversion Cohort\, beginning May 2026 through April 2027. \nQuestions: email rabbi@beyttikkun.orgLearn more about the Cohort programs here.  \nProgram participants receive a zoom link for the monthly gathering via email upon registration. \nThe Cohort meets monthly from 2pm-3:30pm PT on the following dates:May 17\, 2026June 21\, 2026July 19\, 2026August 16\, 2026September 27\, 2026October 18\, 2026November 15\, 2026December 13\, 2026 January 17\, 2027February 21\, 2027March 21\, 2027April 18\, 2027
URL:https://beyttikkun.org/event/jewish-learning-cohort-gathering-october/
CATEGORIES:Learning and Classes
ATTACH;FMTTYPE=image/jpeg:https://beyttikkun.org/wp-content/uploads/2026/04/friends-enjoying-lively-discussion-welldecorated-space-1-scaled.jpg
END:VEVENT
BEGIN:VEVENT
DTSTART;TZID=America/Los_Angeles:20261115T140000
DTEND;TZID=America/Los_Angeles:20261115T153000
DTSTAMP:20260423T023355
CREATED:20260423T005447Z
LAST-MODIFIED:20260423T005447Z
UID:3992-1794751200-1794756600@beyttikkun.org
SUMMARY:Jewish Learning Cohort Gathering - November
DESCRIPTION:This Cohort Gathering is for participants of the Year-long Jewish Learning and Conversion Cohort\, beginning May 2026 through April 2027. \nQuestions: email rabbi@beyttikkun.orgLearn more about the Cohort programs here.  \nProgram participants receive a zoom link for the monthly gathering via email upon registration. \nThe Cohort meets monthly from 2pm-3:30pm PT on the following dates:May 17\, 2026June 21\, 2026July 19\, 2026August 16\, 2026September 27\, 2026October 18\, 2026November 15\, 2026December 13\, 2026 January 17\, 2027February 21\, 2027March 21\, 2027April 18\, 2027
URL:https://beyttikkun.org/event/jewish-learning-cohort-gathering-november/
CATEGORIES:Learning and Classes
ATTACH;FMTTYPE=image/jpeg:https://beyttikkun.org/wp-content/uploads/2026/04/friends-enjoying-lively-discussion-welldecorated-space-1-scaled.jpg
END:VEVENT
BEGIN:VEVENT
DTSTART;TZID=America/Los_Angeles:20261213T140000
DTEND;TZID=America/Los_Angeles:20261213T153000
DTSTAMP:20260423T023355
CREATED:20260423T005534Z
LAST-MODIFIED:20260423T005534Z
UID:3993-1797170400-1797175800@beyttikkun.org
SUMMARY:Jewish Learning Cohort Gathering - November
DESCRIPTION:This Cohort Gathering is for participants of the Year-long Jewish Learning and Conversion Cohort\, beginning May 2026 through April 2027. \nQuestions: email rabbi@beyttikkun.orgLearn more about the Cohort programs here.  \nProgram participants receive a zoom link for the monthly gathering via email upon registration. \nThe Cohort meets monthly from 2pm-3:30pm PT on the following dates:May 17\, 2026June 21\, 2026July 19\, 2026August 16\, 2026September 27\, 2026October 18\, 2026November 15\, 2026December 13\, 2026 January 17\, 2027February 21\, 2027March 21\, 2027April 18\, 2027
URL:https://beyttikkun.org/event/jewish-learning-cohort-gathering-december/
CATEGORIES:Learning and Classes
ATTACH;FMTTYPE=image/jpeg:https://beyttikkun.org/wp-content/uploads/2026/04/friends-enjoying-lively-discussion-welldecorated-space-1-scaled.jpg
END:VEVENT
BEGIN:VEVENT
DTSTART;TZID=America/Los_Angeles:20270117T140000
DTEND;TZID=America/Los_Angeles:20270117T153000
DTSTAMP:20260423T023355
CREATED:20260423T005940Z
LAST-MODIFIED:20260423T005940Z
UID:3995-1800194400-1800199800@beyttikkun.org
SUMMARY:Jewish Learning Cohort Gathering - January
DESCRIPTION:This Cohort Gathering is for participants of the Year-long Jewish Learning and Conversion Cohort\, beginning May 2026 through April 2027. \nQuestions: email rabbi@beyttikkun.orgLearn more about the Cohort programs here.  \nProgram participants receive a zoom link for the monthly gathering via email upon registration. \nThe Cohort meets monthly from 2pm-3:30pm PT on the following dates:May 17\, 2026June 21\, 2026July 19\, 2026August 16\, 2026September 27\, 2026October 18\, 2026November 15\, 2026December 13\, 2026 January 17\, 2027February 21\, 2027March 21\, 2027April 18\, 2027
URL:https://beyttikkun.org/event/jewish-learning-cohort-gathering-january/
CATEGORIES:Learning and Classes
ATTACH;FMTTYPE=image/jpeg:https://beyttikkun.org/wp-content/uploads/2026/04/friends-enjoying-lively-discussion-welldecorated-space-1-scaled.jpg
END:VEVENT
BEGIN:VEVENT
DTSTART;TZID=America/Los_Angeles:20270221T140000
DTEND;TZID=America/Los_Angeles:20270221T153000
DTSTAMP:20260423T023355
CREATED:20260423T010034Z
LAST-MODIFIED:20260423T010034Z
UID:3996-1803218400-1803223800@beyttikkun.org
SUMMARY:Jewish Learning Cohort Gathering - February
DESCRIPTION:This Cohort Gathering is for participants of the Year-long Jewish Learning and Conversion Cohort\, beginning May 2026 through April 2027. \nQuestions: email rabbi@beyttikkun.orgLearn more about the Cohort programs here.  \nProgram participants receive a zoom link for the monthly gathering via email upon registration. \nThe Cohort meets monthly from 2pm-3:30pm PT on the following dates:May 17\, 2026June 21\, 2026July 19\, 2026August 16\, 2026September 27\, 2026October 18\, 2026November 15\, 2026December 13\, 2026 January 17\, 2027February 21\, 2027March 21\, 2027April 18\, 2027
URL:https://beyttikkun.org/event/jewish-learning-cohort-gathering-february/
CATEGORIES:Learning and Classes
ATTACH;FMTTYPE=image/jpeg:https://beyttikkun.org/wp-content/uploads/2026/04/friends-enjoying-lively-discussion-welldecorated-space-1-scaled.jpg
END:VEVENT
BEGIN:VEVENT
DTSTART;TZID=America/Los_Angeles:20270321T140000
DTEND;TZID=America/Los_Angeles:20270321T153000
DTSTAMP:20260423T023355
CREATED:20260423T010131Z
LAST-MODIFIED:20260423T010131Z
UID:3997-1805637600-1805643000@beyttikkun.org
SUMMARY:Jewish Learning Cohort Gathering - March
DESCRIPTION:This Cohort Gathering is for participants of the Year-long Jewish Learning and Conversion Cohort\, beginning May 2026 through April 2027. \nQuestions: email rabbi@beyttikkun.orgLearn more about the Cohort programs here.  \nProgram participants receive a zoom link for the monthly gathering via email upon registration. \nThe Cohort meets monthly from 2pm-3:30pm PT on the following dates:May 17\, 2026June 21\, 2026July 19\, 2026August 16\, 2026September 27\, 2026October 18\, 2026November 15\, 2026December 13\, 2026 January 17\, 2027February 21\, 2027March 21\, 2027April 18\, 2027
URL:https://beyttikkun.org/event/jewish-learning-cohort-gathering-march/
CATEGORIES:Learning and Classes
ATTACH;FMTTYPE=image/jpeg:https://beyttikkun.org/wp-content/uploads/2026/04/friends-enjoying-lively-discussion-welldecorated-space-1-scaled.jpg
END:VEVENT
BEGIN:VEVENT
DTSTART;TZID=America/Los_Angeles:20270418T140000
DTEND;TZID=America/Los_Angeles:20270418T153000
DTSTAMP:20260423T023355
CREATED:20260423T010230Z
LAST-MODIFIED:20260423T010230Z
UID:3998-1808056800-1808062200@beyttikkun.org
SUMMARY:Jewish Learning Cohort Gathering - April
DESCRIPTION:This Cohort Gathering is for participants of the Year-long Jewish Learning and Conversion Cohort\, beginning May 2026 through April 2027. \nQuestions: email rabbi@beyttikkun.orgLearn more about the Cohort programs here.  \nProgram participants receive a zoom link for the monthly gathering via email upon registration. \nThe Cohort meets monthly from 2pm-3:30pm PT on the following dates:May 17\, 2026June 21\, 2026July 19\, 2026August 16\, 2026September 27\, 2026October 18\, 2026November 15\, 2026December 13\, 2026 January 17\, 2027February 21\, 2027March 21\, 2027April 18\, 2027
URL:https://beyttikkun.org/event/jewish-learning-cohort-gathering-april/
CATEGORIES:Learning and Classes
ATTACH;FMTTYPE=image/jpeg:https://beyttikkun.org/wp-content/uploads/2026/04/friends-enjoying-lively-discussion-welldecorated-space-1-scaled.jpg
END:VEVENT
END:VCALENDAR