BEGIN:VCALENDAR
VERSION:2.0
PRODID:-//Beyt Tikkun - ECPv6.15.20//NONSGML v1.0//EN
CALSCALE:GREGORIAN
METHOD:PUBLISH
X-ORIGINAL-URL:https://beyttikkun.org
X-WR-CALDESC:Events for Beyt Tikkun
REFRESH-INTERVAL;VALUE=DURATION:PT1H
X-Robots-Tag:noindex
X-PUBLISHED-TTL:PT1H
BEGIN:VTIMEZONE
TZID:America/Los_Angeles
BEGIN:DAYLIGHT
TZOFFSETFROM:-0800
TZOFFSETTO:-0700
TZNAME:PDT
DTSTART:20250309T100000
END:DAYLIGHT
BEGIN:STANDARD
TZOFFSETFROM:-0700
TZOFFSETTO:-0800
TZNAME:PST
DTSTART:20251102T090000
END:STANDARD
BEGIN:DAYLIGHT
TZOFFSETFROM:-0800
TZOFFSETTO:-0700
TZNAME:PDT
DTSTART:20260308T100000
END:DAYLIGHT
BEGIN:STANDARD
TZOFFSETFROM:-0700
TZOFFSETTO:-0800
TZNAME:PST
DTSTART:20261101T090000
END:STANDARD
BEGIN:DAYLIGHT
TZOFFSETFROM:-0800
TZOFFSETTO:-0700
TZNAME:PDT
DTSTART:20270314T100000
END:DAYLIGHT
BEGIN:STANDARD
TZOFFSETFROM:-0700
TZOFFSETTO:-0800
TZNAME:PST
DTSTART:20271107T090000
END:STANDARD
END:VTIMEZONE
BEGIN:VEVENT
DTSTART;TZID=America/Los_Angeles:20260109T183000
DTEND;TZID=America/Los_Angeles:20260109T183000
DTSTAMP:20260423T165532
CREATED:20251016T190050Z
LAST-MODIFIED:20260420T222802Z
UID:3353-1767983400-1767983400@beyttikkun.org
SUMMARY:Kabbalat Shabbat with JVP Kids - Masking optional - (IN-PERSON in Oakland)
DESCRIPTION:Masking is Optional for January 9th Kabbalat ShabbatDate: January 9\, 2025Location: First Unitarian Church of Oakland: 685 14th St\, Oakland\, CA 94612Time: Doors open at 6:00pm. Services begin promptly at 6:30 PM.Potluck: Following services\, we’ll share a community meal. Please bring a vegan\, gluten-free dish to contribute. \nThis will be a short kid-friendly kabbalat shabbat service followed by a vegetarian Shabbat Potluck. Kiddos and families that eat on the earlier side Option to start eating alongside Kabbalat Shabbat services. \nAccessibility:  \n\nMasking is optional in January; optional and required on different months (see schedule below)\nWheelchair accessible\nSeating includes chairs with backs\nPlease avoid scented products\nIndoor and outdoor space available for eating\nPlease email marissa@beyttikkun.org if you have questions or other accessibility needs\n\nMark your calendars!Monthly (mostly!) In-Person Kabbalat Shabbat SchedulePlease see the schedule below for future dates. This is subject to change; You will have to register for each event individually \n\nJanuary 9\, 2026 - masking optional\nFebruary 13\, 2026 - masking optional for special community-led Valentine's day Shabbat\nMarch 13\, 2026-  masking required\nApril 10\, 2026 - masking required\nMay 1\, 2026 -  masking optional\nJune 12\, 2026 - masking required\nJuly 10\, 2026 - Special Members & Volunteers Shabbat - masking optional\n\n\n															\n												\n							\n\n							\n							\n							\n																\n									\n									\n\n\n																														\n												\n																											\n															01														\n													\n																											\n															May														\n													\n													\n													\n																									\n											\n																												\n								\n							\n\n							\n							\n								\n																			\n																																		\n													\n														May Day Kabbalat Shabbat Rabbi Cat (Masks Required\, IN-PERSON in Oakland)													\n												\n																					\n									\n																		\n																				\n												\n																											\n															Date														\n																									\n												\n																											May 01\, 2026																									\n											\n																					\n																									\n																													\n																Time															\n																											\n																								\n													6:15 pm - 8:30 pm												\n											\n																					\n												\n																											\n															Organizer														\n																									\n												\n													Beyt Tikkun												\n											\n																					\n												\n																											\n															Category														\n																									\n												\n													\n													Kabbalat Shabbat  Special Event												\n											\n																					\n												\n																											\n															Tag														\n																									\n												\n													\n													AntiZionistJudaism  Havdalah  Judaism  judaism beyond zionism												\n											\n																					\n												\n																											\n															Website														\n																									\n												\n													\n														View Events Website													\n												\n											\n																					\n												Friday\, May 1 \n											\n									\n\n																																									\n												\n													More Info												\n											\n										\n																	\n							\n\n							\n							\n						\n					\n\n															\n												\n							\n\n							\n							\n							\n																\n									\n									\n\n\n																														\n												\n																											\n															15														\n													\n																											\n															May														\n													\n													\n													\n																									\n											\n																												\n								\n							\n\n							\n							\n								\n																			\n																																		\n													\n														Community led Anti-zionist covid-cautious Kabbalat Shabbat service - MASKS REQUIRED (IN-PERSON in Oakland)													\n												\n																					\n									\n																		\n																				\n												\n																											\n															Date														\n																									\n												\n																											May 15\, 2026																									\n											\n																					\n																									\n																													\n																Time															\n																											\n																								\n													7:00 pm - 9:00 pm												\n											\n																					\n												\n																											\n															Organizer														\n																									\n												\n													Beyt Tikkun												\n											\n																					\n												\n																											\n															Category														\n																									\n												\n													\n													In-Person  Kabbalat Shabbat  Special Event												\n											\n																					\n												\n																											\n															Tag														\n																									\n												\n													\n													family  kabbalat shabbat												\n											\n																					\n												Friday\, May 15 \n											\n									\n\n																																									\n												\n													More Info
URL:https://beyttikkun.org/event/3353/
CATEGORIES:Kabbalat Shabbat,Special Event
ATTACH;FMTTYPE=image/jpeg:https://beyttikkun.org/wp-content/uploads/2026/01/Kabbalat_Shabbat_1.jpg
END:VEVENT
END:VCALENDAR