BEGIN:VCALENDAR
VERSION:2.0
PRODID:-//Beyt Tikkun - ECPv6.15.20//NONSGML v1.0//EN
CALSCALE:GREGORIAN
METHOD:PUBLISH
X-WR-CALNAME:Beyt Tikkun
X-ORIGINAL-URL:https://beyttikkun.org
X-WR-CALDESC:Events for Beyt Tikkun
REFRESH-INTERVAL;VALUE=DURATION:PT1H
X-Robots-Tag:noindex
X-PUBLISHED-TTL:PT1H
BEGIN:VTIMEZONE
TZID:America/Los_Angeles
BEGIN:DAYLIGHT
TZOFFSETFROM:-0800
TZOFFSETTO:-0700
TZNAME:PDT
DTSTART:20240310T100000
END:DAYLIGHT
BEGIN:STANDARD
TZOFFSETFROM:-0700
TZOFFSETTO:-0800
TZNAME:PST
DTSTART:20241103T090000
END:STANDARD
BEGIN:DAYLIGHT
TZOFFSETFROM:-0800
TZOFFSETTO:-0700
TZNAME:PDT
DTSTART:20250309T100000
END:DAYLIGHT
BEGIN:STANDARD
TZOFFSETFROM:-0700
TZOFFSETTO:-0800
TZNAME:PST
DTSTART:20251102T090000
END:STANDARD
BEGIN:DAYLIGHT
TZOFFSETFROM:-0800
TZOFFSETTO:-0700
TZNAME:PDT
DTSTART:20260308T100000
END:DAYLIGHT
BEGIN:STANDARD
TZOFFSETFROM:-0700
TZOFFSETTO:-0800
TZNAME:PST
DTSTART:20261101T090000
END:STANDARD
END:VTIMEZONE
BEGIN:VEVENT
DTSTART;TZID=America/Los_Angeles:20250509T183000
DTEND;TZID=America/Los_Angeles:20250509T183000
DTSTAMP:20260420T161939
CREATED:20250423T184833Z
LAST-MODIFIED:20260420T222703Z
UID:2657-1746815400-1746815400@beyttikkun.org
SUMMARY:In-Person Kabbalat Shabbat & Potluck Oneg
DESCRIPTION:Join us on May 9 for a warm and welcoming in-person Kabbalat Shabbat and Potluck Oneg. Rooted in a commitment to global liberation and spiritual growth\, our gatherings offer a sacred space to connect\, reflect\, and celebrate Shabbat together. We will be hosting these events every month. Please see the schedule below for future dates. We invite you to come to as many as you’re able! \nDate: May 9\, 2025Time: Please arrive by 6:15 PM to settle in. Services begin promptly at 6:30 PM.Location: Rabbi Cat’s home in Oakland\, about 0.5 miles from MacArthur BART Station. Address will be provided once you register.Potluck: Following services\, we’ll share a community meal. Please bring a vegan\, gluten-free dish to contribute.Carpooling: If you need a ride or are able to offer one\, please sign up here: https://www.groupcarpool.com/t/0yfqd3 and click on "add\," "join" or "waitlist" depending on your needs. \nAccessibility:  \n\nMasking (K/N95 or equivalent) required.\nPlease note that Rabbi Cat will not mask\, and will test prior to the event.\nMasking will be required on alternating months (see schedule below for more details) \nAir filter provided. Windows can be opened if requested. \nSpace is not wheelchair accessible. 4 steps lead into the home and 4 to the backyard.\nThere are couches\, chairs\, and floor pillows for seating. \nPlease try to be scent-free. \nA retriever/labrador dog lives in the home but will not be present. A cat has lived there previously.\n\nPlease email marissa@beyttikkun.org if you have questions or other accessibility needs. \nMark your calendars!Monthly In-Person Kabbalat Shabbat Schedule Every Second Friday of the Month \nWe will be hosting these events every month. Please see the schedule below for future dates. This is subject to change; You will have to register for each event individually  \n\nJune 13\, 2025 - masking optional\nNote: No Kabbalat Shabbat in July\nAugust 8\, 2025 - masking optional\nSeptember 12\, 2025 -  masking required\nOctober 10\, 2025 (Sukkot) - masking optional\nNovember 14\, 2025 -  masking required\nDecember 12\, 2025 - masking optional\nJanuary 9\, 2026 - masking required\nFebruary 13\, 2026 - masking optional\nMarch 13\, 2026-  masking required\nApril 10\, 2026 - masking optional\nMay 8\, 2026 -  masking required\n\n \n															\n												\n							\n\n															\n									\n																					\n												01											\n										\n																					\n												May											\n										\n										\n										\n																			\n								\n							\n							\n							\n																\n									\n									\n\n\n																																					\n								\n							\n\n							\n							\n								\n																			\n																																		\n													\n														May Day Kabbalat Shabbat Rabbi Cat (Masks Required\, IN-PERSON in Oakland)													\n												\n																					\n									\n																		\n																				\n												\n																											\n															Date														\n																									\n												\n																											May 01\, 2026																									\n											\n																					\n																									\n																													\n																Time															\n																											\n																								\n													6:00 pm												\n											\n																					\n												\n																											\n															Category														\n																									\n												\n													\n													Kabbalat Shabbat  Special Event												\n											\n																					\n												\n																											\n															Tag														\n																									\n												\n													\n													AntiZionistJudaism  Havdalah  Judaism  judaism beyond zionism												\n											\n																					\n												\n																											\n															Website														\n																									\n												\n													\n														View Events Website													\n												\n											\n																					\n												Friday\, May 1 \n											\n									\n\n																													\n											\n												More Info											\n										\n																	\n							\n\n							\n							\n						\n					\n\n															\n												\n							\n\n															\n									\n																					\n												15											\n										\n																					\n												May											\n										\n										\n										\n																			\n								\n							\n							\n							\n																\n									\n									\n\n\n																																					\n								\n							\n\n							\n							\n								\n																			\n																																		\n													\n														Community led Anti-zionist covid-cautious Kabbalat Shabbat service - MASKS REQUIRED (IN-PERSON in Oakland)													\n												\n																					\n									\n																		\n																				\n												\n																											\n															Date														\n																									\n												\n																											May 15\, 2026																									\n											\n																					\n																									\n																													\n																Time															\n																											\n																								\n													7:00 pm												\n											\n																					\n												\n																											\n															Category														\n																									\n												\n													\n													In-Person  Kabbalat Shabbat  Special Event												\n											\n																					\n												\n																											\n															Tag														\n																									\n												\n													\n													family  kabbalat shabbat												\n											\n																					\n												Friday\, May 15 \n											\n									\n\n																													\n											\n												More Info
URL:https://beyttikkun.org/event/kabbalat202505/
CATEGORIES:Kabbalat Shabbat,Special Event
ATTACH;FMTTYPE=image/png:https://beyttikkun.org/wp-content/uploads/2025/04/Givebutter-e1745433695906.png
END:VEVENT
END:VCALENDAR