BEGIN:VCALENDAR
VERSION:2.0
PRODID:-//Beyt Tikkun - ECPv6.15.20//NONSGML v1.0//EN
CALSCALE:GREGORIAN
METHOD:PUBLISH
X-WR-CALNAME:Beyt Tikkun
X-ORIGINAL-URL:https://beyttikkun.org
X-WR-CALDESC:Events for Beyt Tikkun
REFRESH-INTERVAL;VALUE=DURATION:PT1H
X-Robots-Tag:noindex
X-PUBLISHED-TTL:PT1H
BEGIN:VTIMEZONE
TZID:America/Los_Angeles
BEGIN:DAYLIGHT
TZOFFSETFROM:-0800
TZOFFSETTO:-0700
TZNAME:PDT
DTSTART:20240310T100000
END:DAYLIGHT
BEGIN:STANDARD
TZOFFSETFROM:-0700
TZOFFSETTO:-0800
TZNAME:PST
DTSTART:20241103T090000
END:STANDARD
BEGIN:DAYLIGHT
TZOFFSETFROM:-0800
TZOFFSETTO:-0700
TZNAME:PDT
DTSTART:20250309T100000
END:DAYLIGHT
BEGIN:STANDARD
TZOFFSETFROM:-0700
TZOFFSETTO:-0800
TZNAME:PST
DTSTART:20251102T090000
END:STANDARD
BEGIN:DAYLIGHT
TZOFFSETFROM:-0800
TZOFFSETTO:-0700
TZNAME:PDT
DTSTART:20260308T100000
END:DAYLIGHT
BEGIN:STANDARD
TZOFFSETFROM:-0700
TZOFFSETTO:-0800
TZNAME:PST
DTSTART:20261101T090000
END:STANDARD
END:VTIMEZONE
BEGIN:VEVENT
DTSTART;TZID=America/Los_Angeles:20250803T140000
DTEND;TZID=America/Los_Angeles:20250803T160000
DTSTAMP:20260420T125312
CREATED:20250715T225427Z
LAST-MODIFIED:20250731T182627Z
UID:2872-1754229600-1754236800@beyttikkun.org
SUMMARY:Tisha B'Av 5785: Crumbling the Walls of Siege and Starvation
DESCRIPTION: 📅 Sunday\, August 3rd🕝 2pm Pacific / 5pm Eastern📍In Person: UN Plaza\, 355 McAllister St\, San Francisco\, CA 94102📝 In Person: Learn more and register for in person ritual here ♿ In Person Accessibility: Masks required  (unless you are medically unable); more accessibility info here⚫ How to Prepare: Wear black\, bring a stone and\, if you have\, a tallit and shofar. Please bring a camping chair if sitting on the ground or standing for 1.5 hours isn't accessible for you. 💻 Online: Register here for Tisha B'av Online Ritual \nPublic Fast for Gaza on Tish’a B’Av: Join Rabbis for Ceasefire\, JVP-Bay Area\, If Not Now\, Beyt Tikkun and Shomeret Shalom\, and JSWANA Bay for a public grief ritual. \nTisha B’Av is a Jewish day of mourning that marks tragedies throughout Jewish history\, beginning with the destruction of the first and second temples. We meet this year's Tisha B'Av in a moment of unthinkable tragedy--as we witness nearly two years of a genocide in Gaza and the Israeli government's campaign of starving the Palestinian people in Gaza.  \nIn many Jewish communities it is traditional to fast on Tisha b’Av and in times of great peril. On Tisha b’Av we also read Eicha\, the Book of Lamentations. Rituals such as kriya\, the tearing of cloth in mourning\, is another psycho-spiritual technology of our tradition that we will draw open this year. In the face of the unfathomable ongoing genocide and starvation in Gaza\, we will use the power of Jewish tradition to publicly express our grief and invite our community to action\, to stop the genocide and starvation of the people of Gaza. \nAll are invited to participate\, regardless of your religious identity and relationship to Judaism. \nWe invite all attending to learn these songs\, which we'll be singing during the ritual. We will have printed song sheets available with Hebrew and English lyrics: Oseh Shalom\, Turkish melody\, setting by Rinat Abastado and  Ayeka\, by Aly Halpert   \nMasks will be required unless you are medically unable.
URL:https://beyttikkun.org/event/tishabav5785/
CATEGORIES:Special Event
ATTACH;FMTTYPE=image/png:https://beyttikkun.org/wp-content/uploads/2025/07/tishabav.png
END:VEVENT
END:VCALENDAR