BEGIN:VCALENDAR
VERSION:2.0
PRODID:-//Beyt Tikkun - ECPv6.15.20//NONSGML v1.0//EN
CALSCALE:GREGORIAN
METHOD:PUBLISH
X-WR-CALNAME:Beyt Tikkun
X-ORIGINAL-URL:https://beyttikkun.org
X-WR-CALDESC:Events for Beyt Tikkun
REFRESH-INTERVAL;VALUE=DURATION:PT1H
X-Robots-Tag:noindex
X-PUBLISHED-TTL:PT1H
BEGIN:VTIMEZONE
TZID:America/Los_Angeles
BEGIN:DAYLIGHT
TZOFFSETFROM:-0800
TZOFFSETTO:-0700
TZNAME:PDT
DTSTART:20240310T100000
END:DAYLIGHT
BEGIN:STANDARD
TZOFFSETFROM:-0700
TZOFFSETTO:-0800
TZNAME:PST
DTSTART:20241103T090000
END:STANDARD
BEGIN:DAYLIGHT
TZOFFSETFROM:-0800
TZOFFSETTO:-0700
TZNAME:PDT
DTSTART:20250309T100000
END:DAYLIGHT
BEGIN:STANDARD
TZOFFSETFROM:-0700
TZOFFSETTO:-0800
TZNAME:PST
DTSTART:20251102T090000
END:STANDARD
BEGIN:DAYLIGHT
TZOFFSETFROM:-0800
TZOFFSETTO:-0700
TZNAME:PDT
DTSTART:20260308T100000
END:DAYLIGHT
BEGIN:STANDARD
TZOFFSETFROM:-0700
TZOFFSETTO:-0800
TZNAME:PST
DTSTART:20261101T090000
END:STANDARD
END:VTIMEZONE
BEGIN:VEVENT
DTSTART;TZID=America/Los_Angeles:20250322T174500
DTEND;TZID=America/Los_Angeles:20250322T200000
DTSTAMP:20260420T235958
CREATED:20250226T220955Z
LAST-MODIFIED:20250312T233525Z
UID:2521-1742665500-1742673600@beyttikkun.org
SUMMARY:Young Adults Havdalah + Potluck
DESCRIPTION:Looking for a vibrant\, radical Jewish community? If you’re in your 20s–40s(ish) and in the Bay Area\, join Beyt Tikkun for a COVID-cautious in-person Havdalah gathering! We’ll mark the end of Shabbat with soulful ritual\, meaningful connection\, and a delicious potluck meal. Plus\, we want to hear what you’re looking for in a radical Jewish community! If folks are into it\, we can stay later and share songs together. 🎶✨ \nMarch\, 22nd 5:45pm PT – 8:00pm PT \nRabbi Cat’s home in Oakland\, about 0.5 miles from MacArthur BART (address provided upon registration). \n🌱 Please bring:\n🥗 A vegan & gluten-free dish to share.\n🎸 Optional: A musical instrument or song (if you’d like to stay and sing!) \nPlease share with your friends! We can’t wait to gather\, connect\, and build community with you 💫 \nIn-Person Accessibility Info\n😷 COVID Safety: K/N-95 masks required when not eating.\nOutdoor eating space available.\nPlease stay home if you have any symptoms.\nAir filter provided\, and windows can be opened upon request. \nRabbi Cat will not be masked but will be testing the morning of. \nAccessibility:\nEntry: 4 steps to enter the house\, 4 steps to the backyard if you choose to eat outside\nSeating: Couches\, chairs\, and floor pillows available.\nBathroom: Not wheelchair accessible.\nScent-free space requested.\nA retriever/labrador dog lives in the home (but won’t be present)\, and a cat has previously lived there. \nQuestions or accessibility needs? Email us with any questions or accessibility needs. We’d love to make this space as welcoming as possible!
URL:https://beyttikkun.org/event/young-adults-havdalah-potluck/
CATEGORIES:Special Event
ATTACH;FMTTYPE=image/png:https://beyttikkun.org/wp-content/uploads/2025/02/Join-Us-for-Young-Adults-Havdalah-Potluck-web-1.png
END:VEVENT
END:VCALENDAR