BEGIN:VCALENDAR
VERSION:2.0
PRODID:-//Beyt Tikkun - ECPv6.15.20//NONSGML v1.0//EN
CALSCALE:GREGORIAN
METHOD:PUBLISH
X-WR-CALNAME:Beyt Tikkun
X-ORIGINAL-URL:https://beyttikkun.org
X-WR-CALDESC:Events for Beyt Tikkun
REFRESH-INTERVAL;VALUE=DURATION:PT1H
X-Robots-Tag:noindex
X-PUBLISHED-TTL:PT1H
BEGIN:VTIMEZONE
TZID:America/Los_Angeles
BEGIN:DAYLIGHT
TZOFFSETFROM:-0800
TZOFFSETTO:-0700
TZNAME:PDT
DTSTART:20240310T100000
END:DAYLIGHT
BEGIN:STANDARD
TZOFFSETFROM:-0700
TZOFFSETTO:-0800
TZNAME:PST
DTSTART:20241103T090000
END:STANDARD
BEGIN:DAYLIGHT
TZOFFSETFROM:-0800
TZOFFSETTO:-0700
TZNAME:PDT
DTSTART:20250309T100000
END:DAYLIGHT
BEGIN:STANDARD
TZOFFSETFROM:-0700
TZOFFSETTO:-0800
TZNAME:PST
DTSTART:20251102T090000
END:STANDARD
BEGIN:DAYLIGHT
TZOFFSETFROM:-0800
TZOFFSETTO:-0700
TZNAME:PDT
DTSTART:20260308T100000
END:DAYLIGHT
BEGIN:STANDARD
TZOFFSETFROM:-0700
TZOFFSETTO:-0800
TZNAME:PST
DTSTART:20261101T090000
END:STANDARD
END:VTIMEZONE
BEGIN:VEVENT
DTSTART;TZID=America/Los_Angeles:20250319T113000
DTEND;TZID=America/Los_Angeles:20250319T123000
DTSTAMP:20260420T235406
CREATED:20250306T194018Z
LAST-MODIFIED:20260420T222656Z
UID:2564-1742383800-1742387400@beyttikkun.org
SUMMARY:Palestinian peace activist Mohamad Jamous in conversation with Rabbi Cat Zavis
DESCRIPTION:Want to hear what's happening on the ground in Ramallah and the West Bank? Rabbi Cat Zavis will be in conversation with special guest\, Mohamad Jamous\, a Palestinian peace activist. We will take questions from the Zoom attendees as well. You don't want to miss this opportunity. We hope to see you there! \nWhen: March 19th @ 11:30am \nWhere: On Zoom \nMohamad Jamous is a Palestinian peace activist\, humanitarian\, and community leader from Ramallah\, Palestine. He is dedicated to promoting unity between cultures\, religions\, and nationalities. With over 15 years of experience working with global peace organizations\, he has led initiatives to support vulnerable communities and advocate for justice\, dignity\, and coexistence. His work goes beyond community activism\, as he actively participates in humanitarian efforts to support those in need\, striving to create real impact despite the challenges facing his homeland. Mohamad has participated in international forums\, sharing firsthand insights into life in Palestine while advocating for a more just and peaceful world. His unwavering commitment to humanity\, freedom\, and cultural preservation continues to drive his mission forward. \nYou can reach out with any questions to rabbi@beyttikkun.org. We’d love to hear your feedback. \n You can watch a short clip of Rabbi Cat speaking with Mohamad here. \nAll funds raised will be shared with Mohamad and his community and Beyt Tikkun. Please be as generous as possible. No one turned away for lack of funds; please email us at rabbi@beyttikkun.org. \n \nReplay available below
URL:https://beyttikkun.org/event/palestinian-peace-activist-mohamad-jamous-in-conversation-with-rabbi-cat-zavis/
CATEGORIES:Special Event
ATTACH;FMTTYPE=image/png:https://beyttikkun.org/wp-content/uploads/2025/03/Jamous-convo-.png
END:VEVENT
END:VCALENDAR