BEGIN:VCALENDAR
VERSION:2.0
PRODID:-//Beyt Tikkun - ECPv6.15.20//NONSGML v1.0//EN
CALSCALE:GREGORIAN
METHOD:PUBLISH
X-ORIGINAL-URL:https://beyttikkun.org
X-WR-CALDESC:Events for Beyt Tikkun
REFRESH-INTERVAL;VALUE=DURATION:PT1H
X-Robots-Tag:noindex
X-PUBLISHED-TTL:PT1H
BEGIN:VTIMEZONE
TZID:America/Los_Angeles
BEGIN:DAYLIGHT
TZOFFSETFROM:-0800
TZOFFSETTO:-0700
TZNAME:PDT
DTSTART:20240310T100000
END:DAYLIGHT
BEGIN:STANDARD
TZOFFSETFROM:-0700
TZOFFSETTO:-0800
TZNAME:PST
DTSTART:20241103T090000
END:STANDARD
BEGIN:DAYLIGHT
TZOFFSETFROM:-0800
TZOFFSETTO:-0700
TZNAME:PDT
DTSTART:20250309T100000
END:DAYLIGHT
BEGIN:STANDARD
TZOFFSETFROM:-0700
TZOFFSETTO:-0800
TZNAME:PST
DTSTART:20251102T090000
END:STANDARD
BEGIN:DAYLIGHT
TZOFFSETFROM:-0800
TZOFFSETTO:-0700
TZNAME:PDT
DTSTART:20260308T100000
END:DAYLIGHT
BEGIN:STANDARD
TZOFFSETFROM:-0700
TZOFFSETTO:-0800
TZNAME:PST
DTSTART:20261101T090000
END:STANDARD
END:VTIMEZONE
BEGIN:VEVENT
DTSTART;TZID=America/Los_Angeles:20250313T173000
DTEND;TZID=America/Los_Angeles:20250313T193000
DTSTAMP:20260420T235525
CREATED:20250303T204320Z
LAST-MODIFIED:20250304T001222Z
UID:2546-1741887000-1741894200@beyttikkun.org
SUMMARY:Book Group: A 100 Years War on Palestine
DESCRIPTION:Beginning Thursday September 12th at 5:30pm PT (8:30pm ET)\, we will meet once a month on the 2nd Thursday of each month (after the High Holidays we may as a group decide to meet 2x/month) to discuss this book. Rabbi Cat will guide our discussion. Together we will create a safe container to hold our questions\, grief\, anger\, compassion\, yearning\, and hope. We’d love to have you join us. You can read about the book and purchase through independent bookstores here.  \nEveryone is welcome. No one turned away for lack of funds. If you want to join us\, please email us at rabbi@beyttikkun.org
URL:https://beyttikkun.org/event/book-group-a-100-years-war-on-palestine/
CATEGORIES:Special Event
ATTACH;FMTTYPE=image/png:https://beyttikkun.org/wp-content/uploads/2024/07/Screenshot-2024-04-15-at-2.45.01 PM.png
END:VEVENT
END:VCALENDAR