BEGIN:VCALENDAR
VERSION:2.0
PRODID:-//Beyt Tikkun - ECPv6.15.20//NONSGML v1.0//EN
CALSCALE:GREGORIAN
METHOD:PUBLISH
X-ORIGINAL-URL:https://beyttikkun.org
X-WR-CALDESC:Events for Beyt Tikkun
REFRESH-INTERVAL;VALUE=DURATION:PT1H
X-Robots-Tag:noindex
X-PUBLISHED-TTL:PT1H
BEGIN:VTIMEZONE
TZID:America/Los_Angeles
BEGIN:DAYLIGHT
TZOFFSETFROM:-0800
TZOFFSETTO:-0700
TZNAME:PDT
DTSTART:20240310T100000
END:DAYLIGHT
BEGIN:STANDARD
TZOFFSETFROM:-0700
TZOFFSETTO:-0800
TZNAME:PST
DTSTART:20241103T090000
END:STANDARD
BEGIN:DAYLIGHT
TZOFFSETFROM:-0800
TZOFFSETTO:-0700
TZNAME:PDT
DTSTART:20250309T100000
END:DAYLIGHT
BEGIN:STANDARD
TZOFFSETFROM:-0700
TZOFFSETTO:-0800
TZNAME:PST
DTSTART:20251102T090000
END:STANDARD
BEGIN:DAYLIGHT
TZOFFSETFROM:-0800
TZOFFSETTO:-0700
TZNAME:PDT
DTSTART:20260308T100000
END:DAYLIGHT
BEGIN:STANDARD
TZOFFSETFROM:-0700
TZOFFSETTO:-0800
TZNAME:PST
DTSTART:20261101T090000
END:STANDARD
END:VTIMEZONE
BEGIN:VTIMEZONE
TZID:America/Los_Angeles
BEGIN:DAYLIGHT
TZOFFSETFROM:-0800
TZOFFSETTO:-0700
TZNAME:PDT
DTSTART:20240310T100000
END:DAYLIGHT
BEGIN:STANDARD
TZOFFSETFROM:-0700
TZOFFSETTO:-0800
TZNAME:PST
DTSTART:20241103T090000
END:STANDARD
BEGIN:DAYLIGHT
TZOFFSETFROM:-0800
TZOFFSETTO:-0700
TZNAME:PDT
DTSTART:20250309T100000
END:DAYLIGHT
BEGIN:STANDARD
TZOFFSETFROM:-0700
TZOFFSETTO:-0800
TZNAME:PST
DTSTART:20251102T090000
END:STANDARD
BEGIN:DAYLIGHT
TZOFFSETFROM:-0800
TZOFFSETTO:-0700
TZNAME:PDT
DTSTART:20260308T100000
END:DAYLIGHT
BEGIN:STANDARD
TZOFFSETFROM:-0700
TZOFFSETTO:-0800
TZNAME:PST
DTSTART:20261101T090000
END:STANDARD
END:VTIMEZONE
BEGIN:VEVENT
DTSTART;TZID=America/Los_Angeles:20250410T173000
DTEND;TZID=America/Los_Angeles:20250410T193000
DTSTAMP:20260420T220340
CREATED:20250314T193340Z
LAST-MODIFIED:20250314T193427Z
UID:2587-1744306200-1744313400@beyttikkun.org
SUMMARY:Book Group: A 100 Years War on Palestine
DESCRIPTION:Beginning Thursday September 12th at 5:30pm PT (8:30pm ET)\, we will meet once a month on the 2nd Thursday of each month (after the High Holidays we may as a group decide to meet 2x/month) to discuss this book. Rabbi Cat will guide our discussion. Together we will create a safe container to hold our questions\, grief\, anger\, compassion\, yearning\, and hope. We’d love to have you join us. You can read about the book and purchase through independent bookstores here.  \nEveryone is welcome. No one turned away for lack of funds. If you want to join us\, please email us at rabbi@beyttikkun.org
URL:https://beyttikkun.org/event/book-group-a-100-years-war-on-palestine-4/
CATEGORIES:Special Event
ATTACH;FMTTYPE=image/png:https://beyttikkun.org/wp-content/uploads/2024/07/Screenshot-2024-04-15-at-2.45.01 PM.png
END:VEVENT
BEGIN:VEVENT
DTSTART;TZID=America/Los_Angeles:20250427T160000
DTEND;TZID=America/Los_Angeles:20250427T173000
DTSTAMP:20260420T220340
CREATED:20250417T201109Z
LAST-MODIFIED:20260420T222702Z
UID:2645-1745769600-1745775000@beyttikkun.org
SUMMARY:Music and Meditation - Rosh Chodesh Circle
DESCRIPTION:Join Beyt Tikkun’s Monthly Music & Meditation Rosh Chodesh Circle! \nRosh Chodesh marks the start of the Jewish month and the New Moon—a powerful time for renewal and reflection. Our circle weaves together communal singing\, guided meditation\, teachings\, and discussion inspired by the themes of the month and the astrological new moon. \nLed by Marissa Munn (they/she)—Beyt Tikkun’s Program & Outreach Manager\, Meditation Teacher\, and Mindfulness Coach—each gathering features guest musicians who guide the music. Feel free to bring a song to share!Please note: This gathering is held by Anti-Zionist Jews and Allies. All are welcome.Cost: Sliding scale starting at $9. Give what you can—no one will be turned away. Need support? Email Marissa at marissa@beyttikkun.org. \nUpcoming Circle: \n\nDate and Time: Sunday\, April 27\, 4:00-6:00pm\nLocation: Outdoors in an Oakland Park\n\nExact location will be emailed after registration\n0.3 miles from 19th Street BART\nRain plan will be indoors\, masks required in Oakland (near MacArthur BART)\n\n\nThemes: The Jewish month of Iyar and the New Moon in Taurus \nCo-Facilitator: Hyazinth Baumann (they/them) of Jews of the Diaspora\n\nAccessibility: \n\nThe park is wheelchair accessible; we will be gathering on the grass\nMasks optional\n\nIf you have any questions\, or are interested in collaborating with Marissa on the musical portion\, please reach out to Marissa: marissa@beyttikkun.org. We look forward to creating this meaningful space together.
URL:https://beyttikkun.org/event/2025-04-rosh-chodesh-circle/
CATEGORIES:Special Event
ATTACH;FMTTYPE=image/png:https://beyttikkun.org/wp-content/uploads/2025/04/Music-Meditation-e1751332489319.png
END:VEVENT
END:VCALENDAR