BEGIN:VCALENDAR
VERSION:2.0
PRODID:-//Beyt Tikkun - ECPv6.15.20//NONSGML v1.0//EN
CALSCALE:GREGORIAN
METHOD:PUBLISH
X-WR-CALNAME:Beyt Tikkun
X-ORIGINAL-URL:https://beyttikkun.org
X-WR-CALDESC:Events for Beyt Tikkun
REFRESH-INTERVAL;VALUE=DURATION:PT1H
X-Robots-Tag:noindex
X-PUBLISHED-TTL:PT1H
BEGIN:VTIMEZONE
TZID:America/Los_Angeles
BEGIN:DAYLIGHT
TZOFFSETFROM:-0800
TZOFFSETTO:-0700
TZNAME:PDT
DTSTART:20250309T100000
END:DAYLIGHT
BEGIN:STANDARD
TZOFFSETFROM:-0700
TZOFFSETTO:-0800
TZNAME:PST
DTSTART:20251102T090000
END:STANDARD
BEGIN:DAYLIGHT
TZOFFSETFROM:-0800
TZOFFSETTO:-0700
TZNAME:PDT
DTSTART:20260308T100000
END:DAYLIGHT
BEGIN:STANDARD
TZOFFSETFROM:-0700
TZOFFSETTO:-0800
TZNAME:PST
DTSTART:20261101T090000
END:STANDARD
BEGIN:DAYLIGHT
TZOFFSETFROM:-0800
TZOFFSETTO:-0700
TZNAME:PDT
DTSTART:20270314T100000
END:DAYLIGHT
BEGIN:STANDARD
TZOFFSETFROM:-0700
TZOFFSETTO:-0800
TZNAME:PST
DTSTART:20271107T090000
END:STANDARD
END:VTIMEZONE
BEGIN:VEVENT
DTSTART;TZID=America/Los_Angeles:20260103T093000
DTEND;TZID=America/Los_Angeles:20260103T123000
DTSTAMP:20260421T101625
CREATED:20251231T190014Z
LAST-MODIFIED:20260420T222822Z
UID:3344-1767432600-1767443400@beyttikkun.org
SUMMARY:Shabbat Service & Torah Study w/ Rabbi Cat | Parsha Vayechi (HYBRID)
DESCRIPTION:Shabbat Services and & Torah Study: Parsha Vayechi (Genesis 47:28-50:26)With Rabbi Cat Zavis Saturday\, January 3rdHYBRID:Online on Zoom &In-Person at First Unitarian Church of Oakland685 14th St\, Oakland\, CA 946129:30am Shabbat service // 10:30am Torah study \nYou can join us either in person or on Zoom for Shabbat services and/or Torah study. If you are in the Bay Area\, we’d love to have you join us in person. After Torah study\, we enjoy a vegetarian potluck meal together and have an opportunity to deepen our connection with one another. If you are able\, please bring a vegetarian dish to share with others. \n  \n \nAccess InformationLocation: First Unitarian Church of Oakland in Oakland’s Uptown district\, 7 minute walk from BART\, and near several AC Transit bus lines.Masking Requirements: Masking OptionalScents: Please arrive scent-free or low scent.Wheelchair accessibility: Fully wheelchair accessible.Seating: Wooden chairs without arms with backsParking: There is street parking\, as well as several nearby car garages. \nPlease email Mar Munn at marissa@beyttikkun.org if you have questions or other accessibility needs.
URL:https://beyttikkun.org/event/shabbat-service-torah-study-w-rabbi-cat-parsha-vayechi-hybrid/
CATEGORIES:Shabbat Service
ATTACH;FMTTYPE=image/jpeg:https://beyttikkun.org/wp-content/uploads/2026/01/GeneralShabbat2-e1752010227583.jpg
END:VEVENT
BEGIN:VEVENT
DTSTART;TZID=America/Los_Angeles:20260117T093000
DTEND;TZID=America/Los_Angeles:20260117T123000
DTSTAMP:20260421T101625
CREATED:20251229T190056Z
LAST-MODIFIED:20260420T222808Z
UID:3360-1768642200-1768653000@beyttikkun.org
SUMMARY:Shabbat Service & Torah Study w/ Rabbi Cat | Parsha Vaera (HYBRID)
DESCRIPTION:Shabbat Services and & Torah Study: Miketz (Exodus 6:2-9:35)With Rabbi Cat Zavis Saturday\, January 17thHYBRID:Online on Zoom &In-Person at First Unitarian Church of Oakland685 14th St\, Oakland\, CA 946129:30am Shabbat service // 10:30am Torah study \nYou can join us either in person or on Zoom for Shabbat services and/or Torah study. If you are in the Bay Area\, we’d love to have you join us in person. After Torah study\, we enjoy a vegetarian potluck meal together and have an opportunity to deepen our connection with one another. If you are able\, please bring a vegetarian dish to share with others. \nYou can watch Rabbi Cat's Musings on Vaera from last year 2025/5785. \n \n \nAccess InformationLocation: First Unitarian Church of Oakland in Oakland’s Uptown district\, 7 minute walk from BART\, and near several AC Transit bus lines. Exact location will be sent once registered.Masking Requirements: Masking OptionalScents: Please arrive scent-free or low scent.Wheelchair accessibility: Fully wheelchair accessible.Seating: Wooden chairs without arms with backsParking: There is street parking\, as well as several nearby car garages. \nPlease email Mar Munn at marissa@beyttikkun.org if you have questions or other accessibility needs.
URL:https://beyttikkun.org/event/shabbat-service-torah-study-w-rabbi-cat-parsha-vaera-hybrid/
CATEGORIES:Shabbat Service
ATTACH;FMTTYPE=image/jpeg:https://beyttikkun.org/wp-content/uploads/2026/01/GeneralShabbat2-e1752010227583.jpg
END:VEVENT
BEGIN:VEVENT
DTSTART;TZID=America/Los_Angeles:20260131T093000
DTEND;TZID=America/Los_Angeles:20260131T123000
DTSTAMP:20260421T101625
CREATED:20251229T200034Z
LAST-MODIFIED:20260420T222813Z
UID:3366-1769851800-1769862600@beyttikkun.org
SUMMARY:Tu B’Shvat Celebration: Shabbat\, Torah Study\, and Seder
DESCRIPTION:Shabbat Services\, Torah Study & TuB'Shvat CelebrationWith Rabbi Cat Zavis & Musical Director Ami GoodmanSaturday\, January 17th9:30am Shabbat service // 10:30am Torah study // 11:30am Tu B’Shvat Environmental Seder \n  \nHYBRID:Online on Zoom &In-Person at First Unitarian Church of Oakland685 14th St\, Oakland\, CA 94612 \nOn Saturday\, January 31st\, in addition to our regular Shabbat and Torah Study\, we will be hosting our special Tu B’shvat Seder - the Jewish environmental holiday. We will begin with our morning celebration of the universe\, study Torah\, and then have a celebratory environmental seder. All with great teachings and music led by Rabbi Cat Zavis and Musical Director Ami Goodman.  \nThe seder will involve enjoying various fruits\, helping us connect with the beauty and bounty of our planet.  \nIf you join us on Zoom\, we encourage you to get some of the relevant fruit and grape juice or wine (some red and white) so you can participate fully in the experience. If you join us in person\, we will provide the fruits and juice. The tradition is to move from less permeable fruit to more permeable. All you need is one fruit for each of the following stages:  \n\nFirst\, those with tough shells and soft edible inside (e.g.\, walnuts\, coconuts\, pomegranates\, or melons). \nSecond\, fruit with a soft outside but hard inside (e.g.\, peaches\, dates\, apricots\, olives\, cherries\, dates\, plums\, etc.). \nThird\, fruit that is soft both on the outside and the inside (e.g.\, strawberries\, figs\, blueberries\, pears\, grapes\, apples\, etc.). \nIn the 4th stage\, we will visualize a higher level of connection to the earth and the cosmos (no fruit needed!)\n\nYou only need one fruit for each of these stages. If you don’t get them\, then just imagine them when we get to each stage. And at each stage we also drink some grape juice or wine . \n9:30 am PST:  Shabbat celebration of the universe10:30 am PST:  Torah study: Beshalach - God continues to harden Pharaoh’s heart and sends Pharaoh and his army after the Hebrews. Exodus 13:17 (sefaria.org) 11:30 to 12:30 pm PST  - Tu B’Shvat Environmental Seder.   \nAccess Information\nLocation: First Unitarian Church of Oakland in Oakland’s Uptown district\, 7 minute walk from BART\, and near several AC Transit bus lines. Exact location will be sent once registered.Masking Requirements: Masking OptionalScents: Please arrive scent-free or low scent.Wheelchair accessibility: Fully wheelchair accessible.Seating: Wooden chairs without arms with backsParking: There is street parking\, as well as several nearby car garages. \n\n\n\n\n\n\n\n\nPlease email Mar Munn at marissa@beyttikkun.org if you have questions or other accessibility needs. \n \n\n\n\n\n 
URL:https://beyttikkun.org/event/tu-bshvat-celebration-shabbat-torah-study-and-seder/
CATEGORIES:Shabbat Service
ATTACH;FMTTYPE=image/jpeg:https://beyttikkun.org/wp-content/uploads/2026/01/crowdfunding-043.jpg
END:VEVENT
END:VCALENDAR