BEGIN:VCALENDAR
VERSION:2.0
PRODID:-//Beyt Tikkun - ECPv6.15.20//NONSGML v1.0//EN
CALSCALE:GREGORIAN
METHOD:PUBLISH
X-WR-CALNAME:Beyt Tikkun
X-ORIGINAL-URL:https://beyttikkun.org
X-WR-CALDESC:Events for Beyt Tikkun
REFRESH-INTERVAL;VALUE=DURATION:PT1H
X-Robots-Tag:noindex
X-PUBLISHED-TTL:PT1H
BEGIN:VTIMEZONE
TZID:America/Los_Angeles
BEGIN:DAYLIGHT
TZOFFSETFROM:-0800
TZOFFSETTO:-0700
TZNAME:PDT
DTSTART:20240310T100000
END:DAYLIGHT
BEGIN:STANDARD
TZOFFSETFROM:-0700
TZOFFSETTO:-0800
TZNAME:PST
DTSTART:20241103T090000
END:STANDARD
BEGIN:DAYLIGHT
TZOFFSETFROM:-0800
TZOFFSETTO:-0700
TZNAME:PDT
DTSTART:20250309T100000
END:DAYLIGHT
BEGIN:STANDARD
TZOFFSETFROM:-0700
TZOFFSETTO:-0800
TZNAME:PST
DTSTART:20251102T090000
END:STANDARD
BEGIN:DAYLIGHT
TZOFFSETFROM:-0800
TZOFFSETTO:-0700
TZNAME:PDT
DTSTART:20260308T100000
END:DAYLIGHT
BEGIN:STANDARD
TZOFFSETFROM:-0700
TZOFFSETTO:-0800
TZNAME:PST
DTSTART:20261101T090000
END:STANDARD
END:VTIMEZONE
BEGIN:VEVENT
DTSTART;TZID=America/Los_Angeles:20250621T093000
DTEND;TZID=America/Los_Angeles:20250621T123000
DTSTAMP:20260420T045537
CREATED:20250502T222523Z
LAST-MODIFIED:20250619T192910Z
UID:2717-1750498200-1750509000@beyttikkun.org
SUMMARY:Shabbat Service & Torah Study | Sh’lach
DESCRIPTION:  \nShabbat Services and & Torah Study: Parashat Sh’lach (Numbers 13:1-15:41)Saturday\, June 21stEmeryville\, CA & online9:30am Shabbat service // 10:30am Torah study \nYou can join us either in person or on Zoom for Shabbat services and/or Torah study. If you are in the Bay Area\, we’d love to have you join us in person. After Torah study\, we enjoy a vegetarian potluck meal together and have an opportunity to deepen our connection with one another. If you are able\, please bring a vegetarian dish to share with others. For those joining us online\, we invite you to also bring food to eat after the service. We will keep the room open so folks can connect with each other after the service. \nA peek into Torah study with us and the parsha reading this week: \nIn this week’s parsha\, God tells Moses to send 12 scouts to survey the land. Moses shares God’s instructions. May God’s message have been misunderstood? The scouts come back with mixed reports. Most are terrified of what they see–the people are giants and we are mere grasshoppers. Two\, Joshua and Caleb\, reassure the people that the land is filled with abundance and the people aren’t so immense. What’s going on? Is this the moment when the former Israelite slaves prove to God that they lack the courage to enter the Promised Land\, or are they are war resisters? Is their response one of surplus powerlessness or a response to a higher ethos?  \nHow does this story in this parsha play out today? And can we imagine a different reality? Can this parsha help us imagine a different way of seeing and engaging with the land and people who inhabit it?  \n			\n			\n				\n				\n				\n				\n			\n				\n				\n				\n				\n				\n				\n				\n				\n				\n				\n				Accessibility: \n\nMasking optional \nAir filter provided; windows can be opened on request.\nNot wheelchair accessible—4 steps into the home\, 4 to the backyard.\nSeating includes couches\, chairs\, and floor pillows.\nServices may be held outdoors (weather permitting); please dress accordingly.\nPlease avoid scented products.\nNo shoes indoors\, if possible.\nIndoor and outdoor space available for eating.\nA cat lives in the home. A retriever/labrador dog lives in the home but will not be present. 
URL:https://beyttikkun.org/event/shabbat-service-torah-study-shlach/
CATEGORIES:Shabbat Service
ATTACH;FMTTYPE=image/png:https://beyttikkun.org/wp-content/uploads/2025/05/2025-06-21-e1752009194447.png
END:VEVENT
BEGIN:VEVENT
DTSTART;TZID=America/Los_Angeles:20250621T190000
DTEND;TZID=America/Los_Angeles:20250621T190000
DTSTAMP:20260420T045537
CREATED:20250513T191905Z
LAST-MODIFIED:20250722T221504Z
UID:2725-1750532400-1750532400@beyttikkun.org
SUMMARY:Havdalah
DESCRIPTION:📅 Date: Saturday\, June 21 \n⏰ Time: We’ll begin at 7:00pm with a potluck and conversation. The Havdalah ritual will follow around 8:30. \n📍 Location: At Rabbi Cat’s home in Oakland about 0.5 miles from MacArthur BART. The exact address will be shared upon registration. (Registration link coming soon!) \nJoin us for an evening of connection\, community\, and ritual as we mark the transition from Shabbat into the new week. We’ll gather in a warm\, welcoming\, and radically antizionist Jewish space to share food\, music\, and conversation\, weaving together heart\, spirit\, and justice. The evening will begin with a potluck and time to connect—through song and conversation— followed by a Havdalah ritual to gently close Shabbat and welcome the week ahead. Whether you’re a longtime part of the community or joining us for the first time\, this is a space to be nourished\, inspired\, and held. \nAccessibility: \n\nWe may gather outdoors (weather permitting); please dress accordingly\nIndoor and outdoor space available for eating\nMasking optional\nAir filter provided; windows can be opened on request\nNot wheelchair accessible—4 steps into the home\, 4 to the backyard\nSeating includes couches\, chairs\, and floor pillows\nPlease avoid scented products\nNo shoes indoors\, if possible\nA cat lives in the home; A retriever/lab lives in the home (but will not be in our space\, unless all guests are okay with his presence!)\n\nPlease bring:🥗 A vegan & gluten-free dish to share.🎸 A musical instrument or song to share (optional)🧥 Layers to keep warm if we are outside \nQuestions or accessibility needs? Email marissa@beyttikkun.org with any questions or accessibility needs. We’d love to make this space as welcoming as possible!  We look forward to gathering and connecting with you 💫
URL:https://beyttikkun.org/event/2506havdalah/
CATEGORIES:Havdalah,Special Event
ATTACH;FMTTYPE=image/png:https://beyttikkun.org/wp-content/uploads/2025/05/2025.06-Havdalah-e1747421046824.png
END:VEVENT
END:VCALENDAR