BEGIN:VCALENDAR
VERSION:2.0
PRODID:-//Beyt Tikkun - ECPv6.15.20//NONSGML v1.0//EN
CALSCALE:GREGORIAN
METHOD:PUBLISH
X-WR-CALNAME:Beyt Tikkun
X-ORIGINAL-URL:https://beyttikkun.org
X-WR-CALDESC:Events for Beyt Tikkun
REFRESH-INTERVAL;VALUE=DURATION:PT1H
X-Robots-Tag:noindex
X-PUBLISHED-TTL:PT1H
BEGIN:VTIMEZONE
TZID:America/Los_Angeles
BEGIN:DAYLIGHT
TZOFFSETFROM:-0800
TZOFFSETTO:-0700
TZNAME:PDT
DTSTART:20240310T100000
END:DAYLIGHT
BEGIN:STANDARD
TZOFFSETFROM:-0700
TZOFFSETTO:-0800
TZNAME:PST
DTSTART:20241103T090000
END:STANDARD
BEGIN:DAYLIGHT
TZOFFSETFROM:-0800
TZOFFSETTO:-0700
TZNAME:PDT
DTSTART:20250309T100000
END:DAYLIGHT
BEGIN:STANDARD
TZOFFSETFROM:-0700
TZOFFSETTO:-0800
TZNAME:PST
DTSTART:20251102T090000
END:STANDARD
BEGIN:DAYLIGHT
TZOFFSETFROM:-0800
TZOFFSETTO:-0700
TZNAME:PDT
DTSTART:20260308T100000
END:DAYLIGHT
BEGIN:STANDARD
TZOFFSETFROM:-0700
TZOFFSETTO:-0800
TZNAME:PST
DTSTART:20261101T090000
END:STANDARD
END:VTIMEZONE
BEGIN:VEVENT
DTSTART;TZID=America/Los_Angeles:20250413T170000
DTEND;TZID=America/Los_Angeles:20250413T210000
DTSTAMP:20260422T164315
CREATED:20250308T002150Z
LAST-MODIFIED:20250325T192756Z
UID:2577-1744563600-1744578000@beyttikkun.org
SUMMARY:Liberation Seder 2025
DESCRIPTION:“Thank you SO very much for Beyt Tikkun’s beautiful\, rich\, deeply relevant\, moving seder. You so admirably infused all the seder’s rituals with a Tikkun perspective that really brought to life the message [of tikkun] for us at this time\, in this day\, highlighting our responsibility to continue to work towards the liberation of us all. Bravo and Thank you🙏🌹!!!” – Julie Oxenberg \nWe are excited to invite you to join Rabbi Cat Zavis\, Musical Director Ami Goodman\, and the Beyt Tikkun Community for our Liberation Seder \nWHEN: Sunday\, April 13th\, 2025 – 5:00pm (PDT) (We will begin the online portion at 5:30pm PDT / 8:30pm EDT) \nWHERE: Hybrid – On Zoom and in Person in Berkeley\, CA  \nOur Passover community seders have often been a spiritual high point for many of our attendees. They demonstrate how one can be deeply spiritual and also deeply committed to healing and transforming the world (tikkun olam). This Seder is not just for Jews\, but for everyone who wishes to recommit to the struggles for liberation and participate in a Jewish ritual that is joyous\, politically progressive\, environmentally conscious\, and spiritually meaningful. \nOur Beyt Tikkun community Liberation Seder brings in creative elements including exercises\, small group discussions\, guided visualizations\, song\, and dance. We will have a liberation altar(s) to honor and uplift liberation struggles throughout history and in the present. You are invited to bring items to add to the altar. We will share more information about the altars closer to the event. All ages are welcome! \nWe will be both in person and on Zoom so those of you who cannot join us in person can still participate in a meaningful way. We encourage you to invite friends and family to join you at our seder\, whether you participate in person or on Zoom. \nJoin us to revive your hopeful energies for the struggles ahead. For more information and to register\, please click here. \nIn addition to the traditional ritual foods for the seder\, we will also provide a delicious catered vegetarian dinner\, with gluten-free and nut-free options available. \nThere is limited in person space available\, please register early to ensure your spot! \nWe are holding 8 in-person tickets available on a sliding scale for those for whom paying the full amount is not doable. To obtain a reduced price ticket for either in-person or on Zoom\, please contact us at rabbi@beyttikkun.org.\n** If you are able to donate more\, we’d be most grateful. Our costs (the venue\, food\, staff\, etc.) exceed the fees we are charging for the Seder. We are also using this Seder as an fundraiser to help cover our expenses for the remainder of the year before the High Holidays. If you can contribute double or triple the amount above\, we’d be most grateful. Any donations above the amounts listed are tax deductible. \nOnce you register you will receive an email with the Zoom link. Please do not share that link with others.  \nWe hope to see you there! \nIN-PERSON ACCESSIBILITY: \n\nMasks are optional and recommended\nFans and/or air filters will be running in indoor spaces\nPlease attend online if you have respiratory symptoms or are feeling unwell\nWheelchair accessible\n0.8 miles from the Downtown Berkeley and North Berkeley BART stations\nThere is a T-Loop system to enhance audio for those with hearing aids\nIn addition to the traditional seder food\, a vegetarian dinner will be served\, with gluten-free and nut-free options\n\n. 
URL:https://beyttikkun.org/event/liberation-seder-2025/
CATEGORIES:Passover
ATTACH;FMTTYPE=image/png:https://beyttikkun.org/wp-content/uploads/2025/03/passover-2025-web.png
END:VEVENT
END:VCALENDAR