BEGIN:VCALENDAR
VERSION:2.0
PRODID:-//Beyt Tikkun - ECPv6.15.20//NONSGML v1.0//EN
CALSCALE:GREGORIAN
METHOD:PUBLISH
X-ORIGINAL-URL:https://beyttikkun.org
X-WR-CALDESC:Events for Beyt Tikkun
REFRESH-INTERVAL;VALUE=DURATION:PT1H
X-Robots-Tag:noindex
X-PUBLISHED-TTL:PT1H
BEGIN:VTIMEZONE
TZID:America/Los_Angeles
BEGIN:DAYLIGHT
TZOFFSETFROM:-0800
TZOFFSETTO:-0700
TZNAME:PDT
DTSTART:20240310T100000
END:DAYLIGHT
BEGIN:STANDARD
TZOFFSETFROM:-0700
TZOFFSETTO:-0800
TZNAME:PST
DTSTART:20241103T090000
END:STANDARD
BEGIN:DAYLIGHT
TZOFFSETFROM:-0800
TZOFFSETTO:-0700
TZNAME:PDT
DTSTART:20250309T100000
END:DAYLIGHT
BEGIN:STANDARD
TZOFFSETFROM:-0700
TZOFFSETTO:-0800
TZNAME:PST
DTSTART:20251102T090000
END:STANDARD
BEGIN:DAYLIGHT
TZOFFSETFROM:-0800
TZOFFSETTO:-0700
TZNAME:PDT
DTSTART:20260308T100000
END:DAYLIGHT
BEGIN:STANDARD
TZOFFSETFROM:-0700
TZOFFSETTO:-0800
TZNAME:PST
DTSTART:20261101T090000
END:STANDARD
END:VTIMEZONE
BEGIN:VEVENT
DTSTART;VALUE=DATE:20250310
DTEND;VALUE=DATE:20250311
DTSTAMP:20260422T144034
CREATED:20250310T195245Z
LAST-MODIFIED:20250310T195245Z
UID:2579-1741564800-1741651199@beyttikkun.org
SUMMARY:Weekly Action for Peace: Justice Cannot Wait: Call for an Arms Embargo & Student Protection
DESCRIPTION:We need your voice today. The U.S. must take immediate action to uphold human rights\, stop arms sales to Israel\, and push for a just peace. Please take a moment to email your representatives and demand the following: \n✅ Vote YES on S.J.RES.20 and H.J.RES.68 to block the transfer of 10\,000 artillery shells to Israel.\n ✅ Support an immediate arms embargo to halt all U.S. weapons shipments.\n ✅ Enforce U.S. laws that prohibit military funding for human rights violations.\n ✅ Push for full ceasefire compliance and ensure unobstructed humanitarian aid reaches those in need. \n👉 Click here to email your representatives now. \nExplore & Learn More\n🌍 Nobel Peace Prize Nominees: Webinars Next Week\n Three activists—Issa Amro\, Jeff Halper\, and Mazin Qumsiyeh—have been nominated for the Nobel Peace Prize for their courageous work in Palestine and Israel. Join us for two special webinars: \n📅 Wednesday\, March 12 (Issa & Jeff) – Register Here\n 📅 Thursday\, March 13 (Mazin) – Register Here \n📚 New Online Course: Fighting Fascism at Home & Abroad\n Join us for a six-session online course exploring the link between rising fascism in the U.S. and the struggle for a free Palestine. Learn how to build a powerful movement capable of confronting injustice everywhere. \n✍️ Click here to register. \nDemand Justice for Palestinian Student Activist Mahmoud Khalil\nColumbia University\, which recently published a new protocol on its plans to cooperate with ICE\, has repeatedly targeted Mahmoud Khalil for his Palestinian identity and outspoken activism. Over the past 17 months\, he has faced harassment for his role as a lead negotiator during the Gaza Solidarity Encampment and for speaking out in media interviews and press conferences. \nColumbia’s continued collaboration with federal agencies and outside partisan institutions has enabled this injustice. Like many other Arab and Muslim students\, Khalil has been the target of Zionist harassment campaigns\, fueled by doxxing websites like Canary Mission\, designed to instill fear in pro-Palestine activists and silence dissent. \nWe demand the immediate release of Mahmoud Khalil from DHS detention and a reversal of Columbia University’s protocol permitting ICE on campus without a warrant. \n✍️ Add your name to demand justice. \nThank you for taking action. Together\, we can demand accountability\, protect human rights\, and work toward lasting peace.
URL:https://beyttikkun.org/event/weekly-action-for-peace-justice-cannot-wait-call-for-an-arms-embargo-student-protection/
ATTACH;FMTTYPE=image/png:https://beyttikkun.org/wp-content/uploads/2025/03/Weekly-action-for-peace.png
END:VEVENT
END:VCALENDAR