BEGIN:VCALENDAR
VERSION:2.0
PRODID:-//Beyt Tikkun - ECPv6.15.20//NONSGML v1.0//EN
CALSCALE:GREGORIAN
METHOD:PUBLISH
X-ORIGINAL-URL:https://beyttikkun.org
X-WR-CALDESC:Events for Beyt Tikkun
REFRESH-INTERVAL;VALUE=DURATION:PT1H
X-Robots-Tag:noindex
X-PUBLISHED-TTL:PT1H
BEGIN:VTIMEZONE
TZID:America/Los_Angeles
BEGIN:DAYLIGHT
TZOFFSETFROM:-0800
TZOFFSETTO:-0700
TZNAME:PDT
DTSTART:20240310T100000
END:DAYLIGHT
BEGIN:STANDARD
TZOFFSETFROM:-0700
TZOFFSETTO:-0800
TZNAME:PST
DTSTART:20241103T090000
END:STANDARD
BEGIN:DAYLIGHT
TZOFFSETFROM:-0800
TZOFFSETTO:-0700
TZNAME:PDT
DTSTART:20250309T100000
END:DAYLIGHT
BEGIN:STANDARD
TZOFFSETFROM:-0700
TZOFFSETTO:-0800
TZNAME:PST
DTSTART:20251102T090000
END:STANDARD
BEGIN:DAYLIGHT
TZOFFSETFROM:-0800
TZOFFSETTO:-0700
TZNAME:PDT
DTSTART:20260308T100000
END:DAYLIGHT
BEGIN:STANDARD
TZOFFSETFROM:-0700
TZOFFSETTO:-0800
TZNAME:PST
DTSTART:20261101T090000
END:STANDARD
END:VTIMEZONE
BEGIN:VEVENT
DTSTART;VALUE=DATE:20250303
DTEND;VALUE=DATE:20250304
DTSTAMP:20260422T183509
CREATED:20250303T220520Z
LAST-MODIFIED:20250303T221003Z
UID:2548-1740960000-1741046399@beyttikkun.org
SUMMARY:Urgent Actions & Upcoming Event – Take a Stand for Justice
DESCRIPTION:🔴 Action 1: URGENT – Block Weapons to Israel\nThe Senate will soon vote on blocking weapons to Israel as Gaza rebuilds and tanks roll into the West Bank. \nFor the first time in 20 years\, Israeli tanks are advancing through the occupied West Bank. Just yesterday\, Israeli forces killed two 13-year-old Palestinian children. These horrifying escalations continue as Israel violates ceasefire terms in Gaza and obstructs rebuilding efforts. \nWe cannot look away while our tax dollars enable these atrocities. \n📢 Tell your senators to vote YES on Senator Bernie Sanders’ bill\, S.J.RES.20\, which aims to block 10\,000 155mm artillery shells from being sent to Israel—the same weapons fueling violence and displacement across Palestine. \n👉 Click here to contact your senators now. \n🚨 Action 2: Stop Mike Huckabee’s Confirmation\nTell your senators to oppose the confirmation of Mike Huckabee for U.S. Ambassador to Israel. His record makes it clear why he must be blocked: \n❌ He actively denies the existence of the Palestinian people\n❌ He supports the Israeli government’s violent forced displacement of Palestinians \n📢 Send a letter to your senators today!\n👉 Click here to take action. \n🎬 Explore & Learn More: Online Film Salon\nJoin us for an online film salon on March 16\, 2025\, focusing on: \n🎞️ The Consequences of Zionism on the Lives of Ordinary People Living in the Holy Land \nPrior to the event\, you’ll receive access to related films\, followed by a panel discussion featuring Israeli\, Palestinian\, and American panelists. \n🗣️ Moderator: Seth Morrison\, member of Beyt Tikkun Synagogue \n📅 Date: March 16\, 2025\n📌 Register here: 👉 Click here to sign up. \n📢 Local CA Action: Stop the Censorship of Ethnic Studies\nA dangerous new bill\, AB 1468\, has been introduced in the California legislature that would censor the teaching of anti-Arab racism\, anti-Palestinian racism\, and Islamophobia in high school Ethnic Studies classes. \nThe Council on American-Islamic Relations (CAIR) has launched a petition urging the legislature to oppose AB 1468. As CAIR states: \n“AB 1468 is a deeply problematic bill that seeks to undermine Ethnic Studies in California by stripping control from educators and scholars\, imposing political censorship\, and erasing critical histories.” \n📢 Take action now: Sign the CAIR petition \nThe bill\, introduced by Assembly members Rick Zbur and Dawn Addis\, originates from the Jewish Legislative Caucus (JLC) and mandates that all Ethnic Studies curriculum and materials be approved by the State Board of Education with input from a newly formed “advisory” committee. Given the pro-Israel bias of the bill’s backers\, discussions of Israeli apartheid\, ethnic cleansing\, settler colonialism\, and genocide will likely be prohibited under the guise of combatting “antisemitism.” \nLocal school districts would be required to comply—or face legal consequences. \nJVP Bay Area and other JVP chapters will be mobilizing over the summer to stop this bill. \n📢 Sign the CAIR petition now: 👉 Click here \nFor further information on the struggle for Ethnic Studies\, explore the following: \n\nArticle in California Politico: “Ethnic Studies Clash Coming” (02/24/2025) – An overview of AB 1468.\nCoalition of Liberated Ethnic Studies – A progressive Ethnic Studies curriculum providing an example of what genuine Ethnic Studies should look like.\n\nIn solidarity\,\nRabbi Cat Zavis & the Beyt Tikkun Israel/Palestine Social Action Committee
URL:https://beyttikkun.org/event/urgent-actions-upcoming-event-take-a-stand-for-justice/
ATTACH;FMTTYPE=image/png:https://beyttikkun.org/wp-content/uploads/2025/03/Copy-of-Weekly-action-for-peace.png
END:VEVENT
END:VCALENDAR