BEGIN:VCALENDAR
VERSION:2.0
PRODID:-//Beyt Tikkun - ECPv6.15.20//NONSGML v1.0//EN
CALSCALE:GREGORIAN
METHOD:PUBLISH
X-ORIGINAL-URL:https://beyttikkun.org
X-WR-CALDESC:Events for Beyt Tikkun
REFRESH-INTERVAL;VALUE=DURATION:PT1H
X-Robots-Tag:noindex
X-PUBLISHED-TTL:PT1H
BEGIN:VTIMEZONE
TZID:America/Los_Angeles
BEGIN:DAYLIGHT
TZOFFSETFROM:-0800
TZOFFSETTO:-0700
TZNAME:PDT
DTSTART:20240310T100000
END:DAYLIGHT
BEGIN:STANDARD
TZOFFSETFROM:-0700
TZOFFSETTO:-0800
TZNAME:PST
DTSTART:20241103T090000
END:STANDARD
BEGIN:DAYLIGHT
TZOFFSETFROM:-0800
TZOFFSETTO:-0700
TZNAME:PDT
DTSTART:20250309T100000
END:DAYLIGHT
BEGIN:STANDARD
TZOFFSETFROM:-0700
TZOFFSETTO:-0800
TZNAME:PST
DTSTART:20251102T090000
END:STANDARD
BEGIN:DAYLIGHT
TZOFFSETFROM:-0800
TZOFFSETTO:-0700
TZNAME:PDT
DTSTART:20260308T100000
END:DAYLIGHT
BEGIN:STANDARD
TZOFFSETFROM:-0700
TZOFFSETTO:-0800
TZNAME:PST
DTSTART:20261101T090000
END:STANDARD
END:VTIMEZONE
BEGIN:VEVENT
DTSTART;TZID=America/Los_Angeles:20250301T093000
DTEND;TZID=America/Los_Angeles:20250301T123000
DTSTAMP:20260422T150018
CREATED:20250224T223544Z
LAST-MODIFIED:20250226T194144Z
UID:2513-1740821400-1740832200@beyttikkun.org
SUMMARY:Shabbat Services and & Torah Study: Terumah
DESCRIPTION:Shabbat Services and & Torah Study: Terumah \nSaturday\, March\, 1st \nEmeryville\, CA & online \n9:30am Shabbat service // 10:30am Torah study  \nRegister Here \n  \nYou can join us either in person or on Zoom for Shabbat services and/or Torah study. If you are in the Bay Area\, we’d love to have you join us in person. After Torah study\, we enjoy a vegetarian potluck meal together and have an opportunity to deepen our connection with one another. If you are able\, please bring a vegetarian dish to share with others. For those joining us online\, we invite you to also bring food to eat after the service. We will keep the room open so folks can connect with each other after the service. \nA peek into Torah study with us and the parsha this week  \nWe’ve left Egypt and continue on our liberation journey in the desert. We have received the 10 speech acts and some concrete laws to help us live together as a community. This week we read parshat Terumah. In this parsha\, we are given the first instructions for building a sanctuary in which the Divine can dwell. The Divine tells Moses to speak to the Israelites and tell them to bring gifts to the Divine. Interestingly\, this is not a requirement\, but rather an invitation – only those whose heart is so motivated to do so. The word for “gift” is terumah. The root of that word is resh\, vav\, mem (רום)\, which means to uplift. In other words\, you are invited to bring a gift to help build the sanctuary for the Divine to dwell and in so doing\, you are uplifted. You give the gift to uplift yourself\, to draw yourself closer to the Divine. If we participate in building a sanctuary for Divine presence to dwell\, we end up being uplifted.  \n  \nThis Shabbat marks the first day of the month of Adar. We are taught that when Adar arrives\, we are to cultivate joy. (Babylonian Talmud\, Ta’anit 29a) Even in the face of struggle and difficulties\, it is upon us to cultivate joy. Joy can help us navigate these challenging times and stay engaged.  \n  \nAs we try in our movements and in our lives to build a holy world worthy of Divine presence\, a world where all life is seen and treated as a manifestation of the Divine\, what is your unique gift that you want to contribute from your heart? And how might that help you cultivate joy in your life? \n  \nWe hope you will join us either in person or on Zoom for spiritually meaningful prayers and a rich discussion. \n  \n\nLocation: Rabbi Cat’s home in Oakland\, about 0.5 miles from MacArthur BART Station. Address will be provided once you register.\nAccessibility: There are 4 steps to enter the house and 4 steps to the backyard (if people choose to go there.) The bathroom is not wheelchair accessible. There are couches\, chairs\, and floor pillows for seating. Please try to be scent-free. A retriever/labrador dog lives in the home but will not be present. A cat has lived there previously.\nCOVID: Masks are optional. Please don’t come if you have any symptoms. Air filter provided. Windows can be opened if requested.\nPlease email us if you have questions or other accessibility needs.\nrabbi@beyttikkun.org
URL:https://beyttikkun.org/event/shabbat-services-and-torah-study-terumah/
ATTACH;FMTTYPE=image/png:https://beyttikkun.org/wp-content/uploads/2025/02/Terumah.png
END:VEVENT
END:VCALENDAR