BEGIN:VCALENDAR
VERSION:2.0
PRODID:-//Beyt Tikkun - ECPv6.15.20//NONSGML v1.0//EN
CALSCALE:GREGORIAN
METHOD:PUBLISH
X-WR-CALNAME:Beyt Tikkun
X-ORIGINAL-URL:https://beyttikkun.org
X-WR-CALDESC:Events for Beyt Tikkun
REFRESH-INTERVAL;VALUE=DURATION:PT1H
X-Robots-Tag:noindex
X-PUBLISHED-TTL:PT1H
BEGIN:VTIMEZONE
TZID:America/Los_Angeles
BEGIN:DAYLIGHT
TZOFFSETFROM:-0800
TZOFFSETTO:-0700
TZNAME:PDT
DTSTART:20240310T100000
END:DAYLIGHT
BEGIN:STANDARD
TZOFFSETFROM:-0700
TZOFFSETTO:-0800
TZNAME:PST
DTSTART:20241103T090000
END:STANDARD
BEGIN:DAYLIGHT
TZOFFSETFROM:-0800
TZOFFSETTO:-0700
TZNAME:PDT
DTSTART:20250309T100000
END:DAYLIGHT
BEGIN:STANDARD
TZOFFSETFROM:-0700
TZOFFSETTO:-0800
TZNAME:PST
DTSTART:20251102T090000
END:STANDARD
BEGIN:DAYLIGHT
TZOFFSETFROM:-0800
TZOFFSETTO:-0700
TZNAME:PDT
DTSTART:20260308T100000
END:DAYLIGHT
BEGIN:STANDARD
TZOFFSETFROM:-0700
TZOFFSETTO:-0800
TZNAME:PST
DTSTART:20261101T090000
END:STANDARD
END:VTIMEZONE
BEGIN:VEVENT
DTSTART;TZID=America/Los_Angeles:20250228T180000
DTEND;TZID=America/Los_Angeles:20250228T210000
DTSTAMP:20260422T181014
CREATED:20250220T210354Z
LAST-MODIFIED:20250228T030637Z
UID:2502-1740765600-1740776400@beyttikkun.org
SUMMARY:Kabbalat Shabbat with Community Shabbat
DESCRIPTION:We are excited to invite you to an in-person Kabbalat Shabbat dinner in collaboration with Community Shabbat. Community Shabbat is a place to come together to sing\, pray\, and eat in a way that is aligned with Beyt Tikkun’s values of inclusivity\, collaboration\, spirituality\, Judaism beyond Zionism\, anti-racism\, and anti-capitalism. Rabbi Cat Zavis and Kayla Pollak (of Community Shabbat) will co-lead a spiritually and politically infused service. We hope you will stay for a delicious vegan\, gluten-free potluck dinner. All are welcome and invited. Details: Friday\, February 28\, 6-9pm Location: Home in North Berkeley\, address sent following registration Please bring: A vegan\, gluten free dish to share for 20 people. Register here. We hope to see you there! ​ \nAccess info: \n\nThe house is on a medium-sized hill. There are two steps up to the front door. We will have chairs of different sizes\, both with and without arms.\nCOVID info: KN95/N95 masks are required. Please take a rapid test before coming and stay home if you are sick.
URL:https://beyttikkun.org/event/kabbalat-shabbat-with-community-shabbat/
CATEGORIES:Special Event
ATTACH;FMTTYPE=image/png:https://beyttikkun.org/wp-content/uploads/2025/02/Kab-Shab-228.png
END:VEVENT
END:VCALENDAR