BEGIN:VCALENDAR
VERSION:2.0
PRODID:-//Beyt Tikkun - ECPv6.15.20//NONSGML v1.0//EN
CALSCALE:GREGORIAN
METHOD:PUBLISH
X-WR-CALNAME:Beyt Tikkun
X-ORIGINAL-URL:https://beyttikkun.org
X-WR-CALDESC:Events for Beyt Tikkun
REFRESH-INTERVAL;VALUE=DURATION:PT1H
X-Robots-Tag:noindex
X-PUBLISHED-TTL:PT1H
BEGIN:VTIMEZONE
TZID:America/Los_Angeles
BEGIN:DAYLIGHT
TZOFFSETFROM:-0800
TZOFFSETTO:-0700
TZNAME:PDT
DTSTART:20240310T100000
END:DAYLIGHT
BEGIN:STANDARD
TZOFFSETFROM:-0700
TZOFFSETTO:-0800
TZNAME:PST
DTSTART:20241103T090000
END:STANDARD
BEGIN:DAYLIGHT
TZOFFSETFROM:-0800
TZOFFSETTO:-0700
TZNAME:PDT
DTSTART:20250309T100000
END:DAYLIGHT
BEGIN:STANDARD
TZOFFSETFROM:-0700
TZOFFSETTO:-0800
TZNAME:PST
DTSTART:20251102T090000
END:STANDARD
BEGIN:DAYLIGHT
TZOFFSETFROM:-0800
TZOFFSETTO:-0700
TZNAME:PDT
DTSTART:20260308T100000
END:DAYLIGHT
BEGIN:STANDARD
TZOFFSETFROM:-0700
TZOFFSETTO:-0800
TZNAME:PST
DTSTART:20261101T090000
END:STANDARD
END:VTIMEZONE
BEGIN:VEVENT
DTSTART;TZID=America/Los_Angeles:20250219T173000
DTEND;TZID=America/Los_Angeles:20250219T190000
DTSTAMP:20260423T014125
CREATED:20250207T175656Z
LAST-MODIFIED:20250220T011451Z
UID:2320-1739986200-1739991600@beyttikkun.org
SUMMARY:Community Chit Chat with Rabbi Cat
DESCRIPTION:On theThe third Wednesday of each month\, R’Cat will host a Zoom “Community Chit Chat with Rabbi Cat.” It’s an opportunity to visit together in community\, ask questions\, share celebrations\, or anything else that moves you. It will be at 5:30pm PT. Click here to receive the Zoom link.
URL:https://beyttikkun.org/event/community-chit-chat-with-rabbi-cat-4/
CATEGORIES:Special Event
ATTACH;FMTTYPE=image/jpeg:https://beyttikkun.org/wp-content/uploads/2023/01/Cat-Zavis.jpeg
END:VEVENT
END:VCALENDAR